BEGIN:VCALENDAR
VERSION:2.0
PRODID:-//Exponents - ECPv6.15.20//NONSGML v1.0//EN
CALSCALE:GREGORIAN
METHOD:PUBLISH
X-WR-CALNAME:Exponents
X-ORIGINAL-URL:https://www.exponents.org
X-WR-CALDESC:Events for Exponents
REFRESH-INTERVAL;VALUE=DURATION:PT1H
X-Robots-Tag:noindex
X-PUBLISHED-TTL:PT1H
BEGIN:VTIMEZONE
TZID:UTC
BEGIN:STANDARD
TZOFFSETFROM:+0000
TZOFFSETTO:+0000
TZNAME:UTC
DTSTART:20210101T000000
END:STANDARD
END:VTIMEZONE
BEGIN:VTIMEZONE
TZID:America/New_York
BEGIN:DAYLIGHT
TZOFFSETFROM:-0500
TZOFFSETTO:-0400
TZNAME:EDT
DTSTART:20220313T070000
END:DAYLIGHT
BEGIN:STANDARD
TZOFFSETFROM:-0400
TZOFFSETTO:-0500
TZNAME:EST
DTSTART:20221106T060000
END:STANDARD
BEGIN:DAYLIGHT
TZOFFSETFROM:-0500
TZOFFSETTO:-0400
TZNAME:EDT
DTSTART:20230312T070000
END:DAYLIGHT
BEGIN:STANDARD
TZOFFSETFROM:-0400
TZOFFSETTO:-0500
TZNAME:EST
DTSTART:20231105T060000
END:STANDARD
BEGIN:DAYLIGHT
TZOFFSETFROM:-0500
TZOFFSETTO:-0400
TZNAME:EDT
DTSTART:20240310T070000
END:DAYLIGHT
BEGIN:STANDARD
TZOFFSETFROM:-0400
TZOFFSETTO:-0500
TZNAME:EST
DTSTART:20241103T060000
END:STANDARD
END:VTIMEZONE
BEGIN:VEVENT
DTSTART;TZID=UTC:20220701T100000
DTEND;TZID=UTC:20220701T180000
DTSTAMP:20260423T194752
CREATED:20220713T213047Z
LAST-MODIFIED:20220713T230337Z
UID:4520-1656669600-1656698400@www.exponents.org
SUMMARY:JLC Recovery & Wellness Center
DESCRIPTION:Our Recovery Wellness Center named in honor of our Founding Chair\, Judith Loeb Chiara. \nThe JLC Recovery & Wellness Center offers a range of services to those \nseeking a safe space while making new discoveries along their path to recovery. \nVirtual Groups are available via Zoom Monday -Saturday! \n  \n* For more information contact at least one of the following staff members: \nShayra Vega at 212-243-3434\, ext. 328 \nRobert Gerlich at 212-243-3434\, ext. 348 \nDanielle Williams at 212-243-3434\, ext. 355 \n  \nCheck out this month’s activities!
URL:https://www.exponents.org/event/jlc-wellness-recovery-center-4/2022-07-01/
ORGANIZER;CN="Juan Jordan":MAILTO:jjordan@exponents.org
END:VEVENT
BEGIN:VEVENT
DTSTART;VALUE=DATE:20220704
DTEND;VALUE=DATE:20220705
DTSTAMP:20260423T194752
CREATED:20220713T213253Z
LAST-MODIFIED:20220713T213253Z
UID:4546-1656892800-1656979199@www.exponents.org
SUMMARY:Independence Day
DESCRIPTION:
URL:https://www.exponents.org/event/independence-day-2/
END:VEVENT
BEGIN:VEVENT
DTSTART;TZID=UTC:20220714T100000
DTEND;TZID=UTC:20220714T150000
DTSTAMP:20260423T194752
CREATED:20220713T222913Z
LAST-MODIFIED:20220713T223018Z
UID:4570-1657792800-1657810800@www.exponents.org
SUMMARY:JLC Recovery & Wellness BBQ | Orchard Beach
DESCRIPTION:
URL:https://www.exponents.org/event/jlc-bbq-orchard-beach/
LOCATION:Orchard Beach\, NY\, Bronx\, NY\, 10464\, United States
ORGANIZER;CN="Shayra Vega":MAILTO:svega@exponents.org
END:VEVENT
BEGIN:VEVENT
DTSTART;TZID=UTC:20220720T101500
DTEND;TZID=UTC:20220720T150000
DTSTAMP:20260423T194752
CREATED:20220713T224341Z
LAST-MODIFIED:20220713T225033Z
UID:4579-1658312100-1658329200@www.exponents.org
SUMMARY:JLC Recovery Wellness | Governors Island
DESCRIPTION:
URL:https://www.exponents.org/event/jlc-recovery-wellness-governors-island/
LOCATION:Governors Island\, 10 South St\, New York\, NY\, 10004\, United States
ORGANIZER;CN="Shayra Vega":MAILTO:svega@exponents.org
END:VEVENT
BEGIN:VEVENT
DTSTART;TZID=UTC:20220730T100000
DTEND;TZID=UTC:20220730T150000
DTSTAMP:20260423T194752
CREATED:20220713T230843Z
LAST-MODIFIED:20220713T230843Z
UID:4611-1659175200-1659193200@www.exponents.org
SUMMARY:JLC Recovery & Wellness Center | Dumbo Brooklyn Bridge Park
DESCRIPTION:
URL:https://www.exponents.org/event/jlc-recovery-wellness-center-dumbo-brooklyn-bridge-park/
LOCATION:Brooklyn Bridge Park\, 334 Furman St\, Brooklyn\, New York\, 11201\, United States
ORGANIZER;CN="Shayra Vega":MAILTO:svega@exponents.org
END:VEVENT
BEGIN:VEVENT
DTSTART;TZID=UTC:20220801T100000
DTEND;TZID=UTC:20220801T180000
DTSTAMP:20260423T194752
CREATED:20220803T222535Z
LAST-MODIFIED:20220803T222625Z
UID:4618-1659348000-1659376800@www.exponents.org
SUMMARY:JLC Recovery & Wellness Center
DESCRIPTION:Our Recovery Wellness Center named in honor of our Founding Chair\, Judith Loeb Chiara. \nThe JLC Recovery & Wellness Center offers a range of services to those \nseeking a safe space while making new discoveries along their path to recovery. \nVirtual Groups are available via Zoom Monday -Saturday! \n  \n* For more information contact at least one of the following staff members: \nShayra Vega at 212-243-3434\, ext. 328 \nRobert Gerlich at 212-243-3434\, ext. 348 \nDanielle Williams at 212-243-3434\, ext. 355 \n  \nCheck out this month’s activities!
URL:https://www.exponents.org/event/jlc-recovery-wellness-center-16/2022-08-01/
ORGANIZER;CN="Juan Jordan":MAILTO:jjordan@exponents.org
END:VEVENT
BEGIN:VEVENT
DTSTART;TZID=UTC:20220811T190000
DTEND;TZID=UTC:20220811T203000
DTSTAMP:20260423T194752
CREATED:20220812T012853Z
LAST-MODIFIED:20220812T015658Z
UID:4712-1660244400-1660249800@www.exponents.org
SUMMARY:IG Live Q&A with Drs. Uché & Oni Blackstock
DESCRIPTION:
URL:https://www.exponents.org/event/ig-live-qa-with-drs-uche-oni-blackstock/
END:VEVENT
BEGIN:VEVENT
DTSTART;TZID=UTC:20220901T100000
DTEND;TZID=UTC:20220901T150000
DTSTAMP:20260423T194752
CREATED:20220906T203532Z
LAST-MODIFIED:20220906T231653Z
UID:4786-1662026400-1662044400@www.exponents.org
SUMMARY:JLC Recovery & Wellness Center
DESCRIPTION:Our Recovery Wellness Center named in honor of our Founding Chair\, Judith Loeb Chiara. \nThe JLC Recovery & Wellness Center offers a range of services to those \nseeking a safe space while making new discoveries along their path to recovery. \nVirtual Groups are available via Zoom Monday -Saturday! \n  \n* For more information contact at least one of the following staff members: \nShayra Vega at 212-243-3434\, ext. 328 \nRobert Gerlich at 212-243-3434\, ext. 348 \nDanielle Williams at 212-243-3434\, ext. 355 \n  \nCheck out this month’s activities!
URL:https://www.exponents.org/event/jlc-recovery-wellness-center-17/2022-09-01/
ORGANIZER;CN="Juan Jordan":MAILTO:jjordan@exponents.org
END:VEVENT
BEGIN:VEVENT
DTSTART;VALUE=DATE:20220905
DTEND;VALUE=DATE:20220906
DTSTAMP:20260423T194752
CREATED:20220906T204428Z
LAST-MODIFIED:20220906T204428Z
UID:4812-1662336000-1662422399@www.exponents.org
SUMMARY:Labor Day
DESCRIPTION:
URL:https://www.exponents.org/event/labor-day-2/
ATTACH;FMTTYPE=image/jpeg:https://www.exponents.org/wp-content/uploads/image-1.jpeg
END:VEVENT
BEGIN:VEVENT
DTSTART;TZID=UTC:20220915T100000
DTEND;TZID=UTC:20220915T160000
DTSTAMP:20260423T194753
CREATED:20220906T235501Z
LAST-MODIFIED:20220906T235501Z
UID:4842-1663236000-1663257600@www.exponents.org
SUMMARY:JLC Recovery & Wellness Center BBQ | Van Cortlandt Park
DESCRIPTION:
URL:https://www.exponents.org/event/jlc-recovery-wellness-center-bbq-van-cortlandt-park/
LOCATION:Van Cortlandt Park\, West Gun Hill Road and Jerome Avenue\, Bronx\, NY\, 10471\, United States
ATTACH;FMTTYPE=image/jpeg:https://www.exponents.org/wp-content/uploads/JLCRecoveryWellnessCenterBBQ922.jpg
ORGANIZER;CN="Juan Jordan":MAILTO:jjordan@exponents.org
END:VEVENT
BEGIN:VEVENT
DTSTART;TZID=UTC:20220929T120000
DTEND;TZID=UTC:20220929T160000
DTSTAMP:20260423T194753
CREATED:20220906T215749Z
LAST-MODIFIED:20220907T000429Z
UID:4814-1664452800-1664467200@www.exponents.org
SUMMARY:Celebrating Recovery Month | Melody Lanes
DESCRIPTION:
URL:https://www.exponents.org/event/celebrating-recovery-month-melody-lanes/
LOCATION:Melody Lanes\, 461 37th Street\, Brooklyn\, NY\, 11232\, United States
ATTACH;FMTTYPE=image/jpeg:https://www.exponents.org/wp-content/uploads/Melody-Lanes.jpeg
END:VEVENT
BEGIN:VEVENT
DTSTART;TZID=UTC:20220930T123000
DTEND;TZID=UTC:20220930T150000
DTSTAMP:20260423T194753
CREATED:20220907T001556Z
LAST-MODIFIED:20220907T001556Z
UID:4849-1664541000-1664550000@www.exponents.org
SUMMARY:Recovery Month Celebration
DESCRIPTION:
URL:https://www.exponents.org/event/recovery-month-celebration/
LOCATION:Exponents\, Inc.\, 17 Battery Place\, 8th Floor\, New York\, NY\, 10004\, United States
ORGANIZER;CN="Juan Jordan":MAILTO:jjordan@exponents.org
END:VEVENT
BEGIN:VEVENT
DTSTART;TZID=UTC:20221001T120000
DTEND;TZID=UTC:20221001T180000
DTSTAMP:20260423T194753
CREATED:20221010T213906Z
LAST-MODIFIED:20221010T220217Z
UID:4884-1664625600-1664647200@www.exponents.org
SUMMARY:JLC Recovery & Wellness Center
DESCRIPTION:Our Recovery Wellness Center named in honor of our Founding Chair\, Judith Loeb Chiara. \nThe JLC Recovery & Wellness Center offers a range of services to those \nseeking a safe space while making new discoveries along their path to recovery. \nVirtual Groups are available via Zoom Monday -Saturday! \n  \n* For more information contact at least one of the following staff members: \nShayra Vega at 212-243-3434\, ext. 328 \nRobert Gerlich at 212-243-3434\, ext. 348 \nDanielle Williams at 212-243-3434\, ext. 355 \n  \nCheck out this month’s activities!
URL:https://www.exponents.org/event/jlc-recovery-wellness-center-18/2022-10-01/
LOCATION:Exponents\, Inc.\, 17 Battery Place\, 8th Floor\, New York\, NY\, 10004\, United States
ORGANIZER;CN="Juan Jordan":MAILTO:jjordan@exponents.org
END:VEVENT
BEGIN:VEVENT
DTSTART;TZID=UTC:20221031T123000
DTEND;TZID=UTC:20221031T153000
DTSTAMP:20260423T194753
CREATED:20221010T221556Z
LAST-MODIFIED:20221010T221556Z
UID:5023-1667219400-1667230200@www.exponents.org
SUMMARY:JLC Recovery & Wellness Center | Halloween Party | 10.31.22 @ 12:30 PM
DESCRIPTION:
URL:https://www.exponents.org/event/jlc-recovery-wellness-center-halloween-party-10-31-22-1230-pm/
LOCATION:Exponents\, Inc.\, 17 Battery Place\, 8th Floor\, New York\, NY\, 10004\, United States
ATTACH;FMTTYPE=image/jpeg:https://www.exponents.org/wp-content/uploads/Holloween-dance.jpg
ORGANIZER;CN="Juan Jordan":MAILTO:jjordan@exponents.org
END:VEVENT
BEGIN:VEVENT
DTSTART;TZID=UTC:20221101T100000
DTEND;TZID=UTC:20221101T170000
DTSTAMP:20260423T194753
CREATED:20221101T231149Z
LAST-MODIFIED:20221101T231149Z
UID:5038-1667296800-1667322000@www.exponents.org
SUMMARY:JLC Recovery & Wellness Center
DESCRIPTION:Our Recovery Wellness Center named in honor of our Founding Chair\, Judith Loeb Chiara. \nThe JLC Recovery & Wellness Center offers a range of services to those \nseeking a safe space while making new discoveries along their path to recovery. \nVirtual Groups are available via Zoom Monday -Saturday! \n  \n* For more information contact at least one of the following staff members: \nShayra Vega at 212-243-3434\, ext. 328 \nRobert Gerlich at 212-243-3434\, ext. 348 \nDanielle Williams at 212-243-3434\, ext. 355 \n  \nCheck out this month’s activities!
URL:https://www.exponents.org/event/jlc-recovery-wellness-center-19/2022-11-01/
LOCATION:Exponents\, Inc.\, 17 Battery Place\, 8th Floor\, New York\, NY\, 10004\, United States
ORGANIZER;CN="Juan Jordan":MAILTO:jjordan@exponents.org
END:VEVENT
BEGIN:VEVENT
DTSTART;VALUE=DATE:20221111
DTEND;VALUE=DATE:20221112
DTSTAMP:20260423T194753
CREATED:20221101T231706Z
LAST-MODIFIED:20221101T231824Z
UID:5060-1668124800-1668211199@www.exponents.org
SUMMARY:Veterans Day
DESCRIPTION:
URL:https://www.exponents.org/event/veterans-day-3/
END:VEVENT
BEGIN:VEVENT
DTSTART;VALUE=DATE:20221124
DTEND;VALUE=DATE:20221125
DTSTAMP:20260423T194753
CREATED:20221101T232034Z
LAST-MODIFIED:20221101T232034Z
UID:5063-1669248000-1669334399@www.exponents.org
SUMMARY:Thanksgiving Day
DESCRIPTION:
URL:https://www.exponents.org/event/thanksgiving-day-3/
END:VEVENT
BEGIN:VEVENT
DTSTART;VALUE=DATE:20221125
DTEND;VALUE=DATE:20221126
DTSTAMP:20260423T194753
CREATED:20221101T232440Z
LAST-MODIFIED:20221101T232440Z
UID:5066-1669334400-1669420799@www.exponents.org
SUMMARY:Exponents' is Closed
DESCRIPTION:
URL:https://www.exponents.org/event/exponents-is-closed-2/
END:VEVENT
BEGIN:VEVENT
DTSTART;TZID=UTC:20221201T100000
DTEND;TZID=UTC:20221201T151500
DTSTAMP:20260423T194753
CREATED:20221213T231559Z
LAST-MODIFIED:20221213T231559Z
UID:5112-1669888800-1669907700@www.exponents.org
SUMMARY:JLC Recovery & Wellness
DESCRIPTION:Our Recovery Wellness Center named in honor of our Founding Chair\, Judith Loeb Chiara. \nThe JLC Recovery & Wellness Center offers a range of services to those \nseeking a safe space while making new discoveries along their path to recovery. \nVirtual Groups are available via Zoom Monday -Saturday! \n  \n* For more information contact at least one of the following staff members: \nShayra Vega at 212-243-3434\, ext. 328 \nRobert Gerlich at 212-243-3434\, ext. 348 \nDanielle Williams at 212-243-3434\, ext. 355 \n  \nCheck out this month’s activities!
URL:https://www.exponents.org/event/jlc-recovery-wellness-5/2022-12-01/
LOCATION:Exponents\, Inc.\, 17 Battery Place\, 8th Floor\, New York\, NY\, 10004\, United States
ORGANIZER;CN="Juan Jordan":MAILTO:jjordan@exponents.org
END:VEVENT
BEGIN:VEVENT
DTSTART;VALUE=DATE:20221226
DTEND;VALUE=DATE:20221227
DTSTAMP:20260423T194753
CREATED:20221213T232451Z
LAST-MODIFIED:20221213T232451Z
UID:5141-1672012800-1672099199@www.exponents.org
SUMMARY:Exponents' is Closed
DESCRIPTION:
URL:https://www.exponents.org/event/exponents-is-closed-3/
END:VEVENT
BEGIN:VEVENT
DTSTART;VALUE=DATE:20230102
DTEND;VALUE=DATE:20230103
DTSTAMP:20260423T194753
CREATED:20230103T211445Z
LAST-MODIFIED:20230103T211622Z
UID:5177-1672617600-1672703999@www.exponents.org
SUMMARY:Happy New Year (holiday observed-agency is closed)
DESCRIPTION:
URL:https://www.exponents.org/event/happy-new-year-holiday-observed-agency-is-closed/
ATTACH;FMTTYPE=image/jpeg:https://www.exponents.org/wp-content/uploads/New-Year-2023.jpg
END:VEVENT
BEGIN:VEVENT
DTSTART;TZID=UTC:20230103T100000
DTEND;TZID=UTC:20230103T163000
DTSTAMP:20260423T194753
CREATED:20230103T210909Z
LAST-MODIFIED:20230103T210909Z
UID:5150-1672740000-1672763400@www.exponents.org
SUMMARY:JLC Recovery & Wellness Center
DESCRIPTION:Our Recovery Wellness Center named in honor of our Founding Chair\, Judith Loeb Chiara. \nThe JLC Recovery & Wellness Center offers a range of services to those \nseeking a safe space while making new discoveries along their path to recovery. \nVirtual Groups are available via Zoom Monday -Saturday! \n  \n* For more information contact at least one of the following staff members: \nShayra Vega at 212-243-3434\, ext. 328 \nRobert Gerlich at 212-243-3434\, ext. 348 \nDanielle Williams at 212-243-3434\, ext. 355 \n  \nCheck out this month’s activities!
URL:https://www.exponents.org/event/jlc-recovery-wellness-center-20/2023-01-03/
LOCATION:Exponents\, Inc.\, 17 Battery Place\, 8th Floor\, New York\, NY\, 10004\, United States
ORGANIZER;CN="Juan Jordan":MAILTO:jjordan@exponents.org
END:VEVENT
BEGIN:VEVENT
DTSTART;VALUE=DATE:20230116
DTEND;VALUE=DATE:20230117
DTSTAMP:20260423T194753
CREATED:20230103T211900Z
LAST-MODIFIED:20230103T211900Z
UID:5180-1673827200-1673913599@www.exponents.org
SUMMARY:Dr. Martin Luther King Jr. Day
DESCRIPTION:
URL:https://www.exponents.org/event/dr-martin-luther-king-jr-day-3/
END:VEVENT
BEGIN:VEVENT
DTSTART;TZID=UTC:20230201T100000
DTEND;TZID=UTC:20230201T163000
DTSTAMP:20260423T194753
CREATED:20230128T003711Z
LAST-MODIFIED:20230128T003711Z
UID:5192-1675245600-1675269000@www.exponents.org
SUMMARY:JLC Recovery & Wellness Center
DESCRIPTION:Our Recovery Wellness Center named in honor of our Founding Chair\, Judith Loeb Chiara. \nThe JLC Recovery & Wellness Center offers a range of services to those \nseeking a safe space while making new discoveries along their path to recovery. \nVirtual Groups are available via Zoom Monday -Saturday! \n  \n* For more information contact at least one of the following staff members: \nShayra Vega at 212-243-3434\, ext. 328 \nRobert Gerlich at 212-243-3434\, ext. 348 \nDanielle Williams at 212-243-3434\, ext. 355 \n  \nCheck out this month’s activities!
URL:https://www.exponents.org/event/jlc-recovery-wellness-center-21/2023-02-01/
LOCATION:Exponents\, Inc.\, 17 Battery Place\, 8th Floor\, New York\, NY\, 10004\, United States
ORGANIZER;CN="Juan Jordan":MAILTO:jjordan@exponents.org
END:VEVENT
BEGIN:VEVENT
DTSTART;VALUE=DATE:20230220
DTEND;VALUE=DATE:20230221
DTSTAMP:20260423T194753
CREATED:20230128T004811Z
LAST-MODIFIED:20230128T004811Z
UID:5217-1676851200-1676937599@www.exponents.org
SUMMARY:President's Day
DESCRIPTION:Exponents will be closed in observance of President’s Day
URL:https://www.exponents.org/event/presidents-day-4/
ATTACH;FMTTYPE=image/jpeg:https://www.exponents.org/wp-content/uploads/Presidents-Day-Photo-istockphoto-1294339504-612x612-1.jpeg
END:VEVENT
BEGIN:VEVENT
DTSTART;TZID=America/New_York:20230301T100000
DTEND;TZID=America/New_York:20230301T163000
DTSTAMP:20260423T194753
CREATED:20230228T190147Z
LAST-MODIFIED:20230228T190414Z
UID:5547-1677664800-1677688200@www.exponents.org
SUMMARY:JLC Recovery & Wellness Center
DESCRIPTION:Our Recovery Wellness Center named in honor of our Founding Chair\, Judith Loeb Chiara. \nThe JLC Recovery & Wellness Center offers a range of services to those \nseeking a safe space while making new discoveries along their path to recovery. \nVirtual Groups are available via Zoom Monday -Saturday! \n  \n* For more information contact at least one of the following staff members: \nShayra Vega at 212-243-3434\, ext. 328 \nRobert Gerlich at 212-243-3434\, ext. 348 \nDanielle Williams at 212-243-3434\, ext. 355 \n  \nCheck out this month’s activities!
URL:https://www.exponents.org/event/jlc-recovery-wellness-center-22/2023-03-01/
LOCATION:Exponents\, Inc.\, 17 Battery Place\, 8th Floor\, New York\, NY\, 10004\, United States
ORGANIZER;CN="Juan Jordan":MAILTO:jjordan@exponents.org
END:VEVENT
BEGIN:VEVENT
DTSTART;TZID=America/New_York:20230403T100000
DTEND;TZID=America/New_York:20230403T163000
DTSTAMP:20260423T194753
CREATED:20230329T144918Z
LAST-MODIFIED:20230329T144918Z
UID:5644-1680516000-1680539400@www.exponents.org
SUMMARY:JLC Recovery & Wellness Center
DESCRIPTION:Our Recovery Wellness Center named in honor of our Founding Chair\, Judith Loeb Chiara. \nThe JLC Recovery & Wellness Center offers a range of services to those \nseeking a safe space while making new discoveries along their path to recovery. \nVirtual Groups are available via Zoom Monday -Saturday! \n  \n* For more information contact at least one of the following staff members: \nShayra Vega at 212-243-3434\, ext. 328 \nRobert Gerlich at 212-243-3434\, ext. 348 \nDanielle Williams at 212-243-3434\, ext. 355 \n  \nCheck out this month’s activities!
URL:https://www.exponents.org/event/jlc-recovery-wellness-center-23/2023-04-03/
LOCATION:Exponents\, Inc.\, 17 Battery Place\, 8th Floor\, New York\, NY\, 10004\, United States
ORGANIZER;CN="Juan Jordan":MAILTO:jjordan@exponents.org
END:VEVENT
BEGIN:VEVENT
DTSTART;VALUE=DATE:20230406
DTEND;VALUE=DATE:20230407
DTSTAMP:20260423T194753
CREATED:20230329T154947Z
LAST-MODIFIED:20230329T154947Z
UID:5666-1680739200-1680825599@www.exponents.org
SUMMARY:JLC Recovery & Wellness Center | Rockefeller Center
DESCRIPTION:
URL:https://www.exponents.org/event/jlc-recovery-wellness-center-rockefeller-center/
ORGANIZER;CN="Juan Jordan":MAILTO:jjordan@exponents.org
END:VEVENT
BEGIN:VEVENT
DTSTART;VALUE=DATE:20230425
DTEND;VALUE=DATE:20230426
DTSTAMP:20260423T194753
CREATED:20230329T154810Z
LAST-MODIFIED:20230329T155251Z
UID:5664-1682380800-1682467199@www.exponents.org
SUMMARY:JLC Recovery & Wellness Center | Bowling Day
DESCRIPTION:
URL:https://www.exponents.org/event/jlc-recovery-wellness-center-bowling-day/
ORGANIZER;CN="Juan Jordan":MAILTO:jjordan@exponents.org
END:VEVENT
BEGIN:VEVENT
DTSTART;TZID=America/New_York:20230601T100000
DTEND;TZID=America/New_York:20230601T160000
DTSTAMP:20260423T194753
CREATED:20230606T135007Z
LAST-MODIFIED:20230606T135007Z
UID:5706-1685613600-1685635200@www.exponents.org
SUMMARY:JLC Recovery & Wellness Center
DESCRIPTION:Our Recovery Wellness Center named in honor of our Founding Chair\, Judith Loeb Chiara. \nThe JLC Recovery & Wellness Center offers a range of services to those \nseeking a safe space while making new discoveries along their path to recovery. \nVirtual Groups are available via Zoom Monday -Saturday! \n  \n* For more information contact at least one of the following staff members: \nJuan Jordan at 212.243.3434 Ext. 330 \nShayra Vega at Ext. 328 \nDanielle Williams at Ext. 355 \n  \nCheck out this month’s activities!
URL:https://www.exponents.org/event/jlc-recovery-wellness-center-24/2023-06-01/
LOCATION:Exponents\, Inc.\, 17 Battery Place\, 8th Floor\, New York\, NY\, 10004\, United States
ORGANIZER;CN="Juan Jordan":MAILTO:jjordan@exponents.org
END:VEVENT
END:VCALENDAR