BEGIN:VCALENDAR
VERSION:2.0
PRODID:-//Exponents - ECPv6.15.20//NONSGML v1.0//EN
CALSCALE:GREGORIAN
METHOD:PUBLISH
X-WR-CALNAME:Exponents
X-ORIGINAL-URL:https://www.exponents.org
X-WR-CALDESC:Events for Exponents
REFRESH-INTERVAL;VALUE=DURATION:PT1H
X-Robots-Tag:noindex
X-PUBLISHED-TTL:PT1H
BEGIN:VTIMEZONE
TZID:UTC
BEGIN:STANDARD
TZOFFSETFROM:+0000
TZOFFSETTO:+0000
TZNAME:UTC
DTSTART:20200101T000000
END:STANDARD
END:VTIMEZONE
BEGIN:VEVENT
DTSTART;TZID=UTC:20210804T110000
DTEND;TZID=UTC:20210804T160000
DTSTAMP:20260421T211956
CREATED:20210730T205409Z
LAST-MODIFIED:20210730T205409Z
UID:2934-1628074800-1628092800@www.exponents.org
SUMMARY:JLC Annual BBQ at Orchid Beach
DESCRIPTION:
URL:https://www.exponents.org/event/jlc-annual-bbq-at-orchid-beach/
LOCATION:NY
ORGANIZER;CN="Juan Jordan":MAILTO:jjordan@exponents.org
END:VEVENT
BEGIN:VEVENT
DTSTART;TZID=UTC:20210814T110000
DTEND;TZID=UTC:20210814T150000
DTSTAMP:20260421T211956
CREATED:20210730T205622Z
LAST-MODIFIED:20210730T205622Z
UID:2936-1628938800-1628953200@www.exponents.org
SUMMARY:JLC Outing at Governors Island
DESCRIPTION:
URL:https://www.exponents.org/event/jlc-outing-at-governors-island/
LOCATION:NY
ORGANIZER;CN="Juan Jordan":MAILTO:jjordan@exponents.org
END:VEVENT
BEGIN:VEVENT
DTSTART;TZID=UTC:20210820T190000
DTEND;TZID=UTC:20210820T200000
DTSTAMP:20260421T211956
CREATED:20210816T193817Z
LAST-MODIFIED:20210816T194321Z
UID:2943-1629486000-1629489600@www.exponents.org
SUMMARY:Living Healthy Training: Aging Healthy With HIV
DESCRIPTION:Join HIV50+ Strong & Healthy and Exponents on August 20th @ 7 pm for an interactive training on aging with HIV and maintaining a healthy lifestyle. \nRegister here \n  \n  \n 
URL:https://www.exponents.org/event/living-healthy-training-aging-healthy-with-hiv/
LOCATION:NY
ATTACH;FMTTYPE=image/png:https://www.exponents.org/wp-content/uploads/Logos-Healthy-Living-Training-with-active-link-Denise.png
END:VEVENT
BEGIN:VEVENT
DTSTART;TZID=UTC:20210831T093000
DTEND;TZID=UTC:20210831T130000
DTSTAMP:20260421T211956
CREATED:20210826T190445Z
LAST-MODIFIED:20210826T190445Z
UID:2975-1630402200-1630414800@www.exponents.org
SUMMARY:NYC International Overdose Awareness Day | 08.31.21
DESCRIPTION:Join Exponents and Vocal-NY\nWHERE: \nThe Bronx Medical Examiners Office \n1400 Pelham Parkway South Bronx\, NY 10461 \n  \nWHEN: \nTuesday August 31\, 2021 | 9:30 a.m. \n*Rally will begin at 10:00 a.m. \n  \nACTION PLAN: \nThe NYC Harm Reduction Community will hold a press conference outside the Bronx Medical Examiners office\, calling on Governor Hochul to usher in a new era of healing for NYS by passing the Overdose Prevention Package and approving the Overdose Prevention Center pilots. Following the presser\, there will be a rally for community members to commemorate loved ones that have died from preventable overdose and speak out against the harms perpetuated by the racist and classist War on Drugs. \n  \nOUR WHY: \nTo commemorate the 5\,100 New Yorkers that died from preventable overdose in 2020 alone\, and the countless others before that- many of whom wound up at the Bronx Medical Examiners office. For far too long\, the Bronx has been the hardest hit and the most overlooked when it comes to the overdose crisis. On this day\, we will honor those that have died by calling on Governor Hochul take action to prevent future overdose deaths in our community by: signing the Overdose Prevention Package bills and approving the long overdue Overdose Prevention Center Pilots.
URL:https://www.exponents.org/event/nyc-international-overdose-awareness-day-08-31-21/
LOCATION:NY
END:VEVENT
BEGIN:VEVENT
DTSTART;TZID=UTC:20210901T100000
DTEND;TZID=UTC:20210901T180000
DTSTAMP:20260421T211956
CREATED:20210902T165848Z
LAST-MODIFIED:20210902T165848Z
UID:2995-1630490400-1630519200@www.exponents.org
SUMMARY:JLC Recovery & Wellness
DESCRIPTION:Our Recovery Wellness Center named in honor of our Founding Chair\, Judith Loeb Chiara. \nThe JLC Recovery & Wellness Center offers a range of services to those \nseeking a safe space while making new discoveries along their path to recovery. \nVirtual Groups are available via Zoom Monday -Saturday! \n  \n* For more information contact at least one of the following staff members: \nShayra Vega at 212-243-3434\, ext. 328 \nRobert Gerlich at 212-243-3434\, ext. 348 \nDanielle Williams at 212-243-3434\, ext. 355 \n  \nCheck out this month’s activities!
URL:https://www.exponents.org/event/jlc-recovery-wellness/2021-09-01/
LOCATION:NY
ORGANIZER;CN="Juan Jordan":MAILTO:jjordan@exponents.org
END:VEVENT
BEGIN:VEVENT
DTSTART;VALUE=DATE:20210906
DTEND;VALUE=DATE:20210907
DTSTAMP:20260421T211956
CREATED:20210902T170406Z
LAST-MODIFIED:20210902T170406Z
UID:3022-1630886400-1630972799@www.exponents.org
SUMMARY:Labor Day
DESCRIPTION:
URL:https://www.exponents.org/event/labor-day/
LOCATION:NY
END:VEVENT
BEGIN:VEVENT
DTSTART;TZID=UTC:20210916T100000
DTEND;TZID=UTC:20210916T150000
DTSTAMP:20260421T211956
CREATED:20210902T171744Z
LAST-MODIFIED:20210902T171744Z
UID:3026-1631786400-1631804400@www.exponents.org
SUMMARY:Recovery Month Celebration BBQ at Van Cortlandt Park
DESCRIPTION:Celebrate Recovery Month with Exponents at Van Cortlandt Park \nLocation: West Gun Hill Road and Jerome Avenue
URL:https://www.exponents.org/event/recovery-month-celebration-bbq-at-van-cortlandt-park/
LOCATION:Van Cortlandt Park\, West Gun Hill Road and Jerome Avenue\, Bronx\, NY\, 10471\, United States
ORGANIZER;CN="Juan Jordan":MAILTO:jjordan@exponents.org
END:VEVENT
BEGIN:VEVENT
DTSTART;TZID=UTC:20211004T100000
DTEND;TZID=UTC:20211004T180000
DTSTAMP:20260421T211956
CREATED:20211004T181237Z
LAST-MODIFIED:20211004T181237Z
UID:3096-1633341600-1633370400@www.exponents.org
SUMMARY:JLC Recovery & Wellness
DESCRIPTION:Our Recovery Wellness Center named in honor of our Founding Chair\, Judith Loeb Chiara. \nThe JLC Recovery & Wellness Center offers a range of services to those \nseeking a safe space while making new discoveries along their path to recovery. \nVirtual Groups are available via Zoom Monday -Saturday! \n  \n* For more information contact at least one of the following staff members: \nShayra Vega at 212-243-3434\, ext. 328 \nRobert Gerlich at 212-243-3434\, ext. 348 \nDanielle Williams at 212-243-3434\, ext. 355 \n  \nCheck out this month’s activities!
URL:https://www.exponents.org/event/jlc-recovery-wellness-2/2021-10-04/
LOCATION:Exponents\, Inc.\, 17 Battery Place\, 8th Floor\, New York\, NY\, 10004\, United States
ORGANIZER;CN="Juan Jordan":MAILTO:jjordan@exponents.org
END:VEVENT
BEGIN:VEVENT
DTSTART;TZID=UTC:20211018T150000
DTEND;TZID=UTC:20211018T173000
DTSTAMP:20260421T211956
CREATED:20211102T214954Z
LAST-MODIFIED:20211102T214954Z
UID:3178-1634569200-1634578200@www.exponents.org
SUMMARY:ARRIVE CYCLE 164 SESSION
DESCRIPTION:Welcome to another Cycle! \nThe ARRIVE program offers credentialed clinicians who engage students both onsite and virtually via the Zoom platform. The training provide the newly developed COVID-19 specific curriculum to address support and information needs of those living with or at a greater risk of acquiring HIV and managing substance use. \n  \n  \n* For more information contact one of the following staff members: \nDana Diamond at 212-243-3434\, ext. 325 \nVictor Velazquez at 212-243-3434\, ext. 305 or 646.667.6077 \n  \n  \nCheck Out Cycle 164 Schedule!
URL:https://www.exponents.org/event/arrive-cycle-164-session/2021-10-18/
LOCATION:Exponents\, Inc.\, 17 Battery Place\, 8th Floor\, New York\, NY\, 10004\, United States
ORGANIZER;CN="Dana Diamond%2C CASAC":MAILTO:ddiamond@exponents.org
END:VEVENT
BEGIN:VEVENT
DTSTART;TZID=UTC:20211101T100000
DTEND;TZID=UTC:20211101T180000
DTSTAMP:20260421T211956
CREATED:20211101T195412Z
LAST-MODIFIED:20211101T195412Z
UID:3130-1635760800-1635789600@www.exponents.org
SUMMARY:JLC Recovery & Wellness
DESCRIPTION:Our Recovery Wellness Center named in honor of our Founding Chair\, Judith Loeb Chiara. \nThe JLC Recovery & Wellness Center offers a range of services to those \nseeking a safe space while making new discoveries along their path to recovery. \nVirtual Groups are available via Zoom Monday -Saturday! \n  \n* For more information contact at least one of the following staff members: \nShayra Vega at 212-243-3434\, ext. 328 \nRobert Gerlich at 212-243-3434\, ext. 348 \nDanielle Williams at 212-243-3434\, ext. 355 \n  \nCheck out this month’s activities!
URL:https://www.exponents.org/event/jlc-recovery-wellness-3/2021-11-01/
LOCATION:Exponents\, Inc.\, 17 Battery Place\, 8th Floor\, New York\, NY\, 10004\, United States
ORGANIZER;CN="Juan Jordan":MAILTO:jjordan@exponents.org
END:VEVENT
BEGIN:VEVENT
DTSTART;VALUE=DATE:20211111
DTEND;VALUE=DATE:20211112
DTSTAMP:20260421T211956
CREATED:20211101T200059Z
LAST-MODIFIED:20211101T200059Z
UID:3155-1636588800-1636675199@www.exponents.org
SUMMARY:Veterans Day
DESCRIPTION:
URL:https://www.exponents.org/event/veterans-day-2/
LOCATION:NY
END:VEVENT
BEGIN:VEVENT
DTSTART;VALUE=DATE:20211125
DTEND;VALUE=DATE:20211126
DTSTAMP:20260421T211956
CREATED:20211101T210750Z
LAST-MODIFIED:20211101T210750Z
UID:3160-1637798400-1637884799@www.exponents.org
SUMMARY:Thanksgiving Day
DESCRIPTION:
URL:https://www.exponents.org/event/thanksgiving-day-2/
LOCATION:NY
END:VEVENT
BEGIN:VEVENT
DTSTART;VALUE=DATE:20211126
DTEND;VALUE=DATE:20211127
DTSTAMP:20260421T211956
CREATED:20211101T211532Z
LAST-MODIFIED:20211101T211556Z
UID:3164-1637884800-1637971199@www.exponents.org
SUMMARY:Exponents is Closed
DESCRIPTION:
URL:https://www.exponents.org/event/exponents-is-closed/
LOCATION:NY
END:VEVENT
BEGIN:VEVENT
DTSTART;TZID=UTC:20211201T100000
DTEND;TZID=UTC:20211201T180000
DTSTAMP:20260421T211956
CREATED:20211203T010220Z
LAST-MODIFIED:20211206T203127Z
UID:3715-1638352800-1638381600@www.exponents.org
SUMMARY:JLC Recovery & Wellness
DESCRIPTION:Our Recovery Wellness Center named in honor of our Founding Chair\, Judith Loeb Chiara. \nThe JLC Recovery & Wellness Center offers a range of services to those \nseeking a safe space while making new discoveries along their path to recovery. \nVirtual Groups are available via Zoom Monday -Saturday! \n  \n* For more information contact at least one of the following staff members: \nShayra Vega at 212-243-3434\, ext. 328 \nRobert Gerlich at 212-243-3434\, ext. 348 \nDanielle Williams at 212-243-3434\, ext. 355 \n  \nCheck out this month’s activities!
URL:https://www.exponents.org/event/jlc-recovery-wellness-4/2021-12-01/
LOCATION:NY
END:VEVENT
BEGIN:VEVENT
DTSTART;VALUE=DATE:20211225
DTEND;VALUE=DATE:20211226
DTSTAMP:20260421T211956
CREATED:20211203T010725Z
LAST-MODIFIED:20211203T010725Z
UID:3744-1640390400-1640476799@www.exponents.org
SUMMARY:Christmas Day
DESCRIPTION:
URL:https://www.exponents.org/event/christmas-day-2/
LOCATION:NY
ATTACH;FMTTYPE=image/jpeg:https://www.exponents.org/wp-content/uploads/image-5.jpeg
END:VEVENT
BEGIN:VEVENT
DTSTART;VALUE=DATE:20220101
DTEND;VALUE=DATE:20220102
DTSTAMP:20260421T211956
CREATED:20211203T010950Z
LAST-MODIFIED:20211203T011132Z
UID:3747-1640995200-1641081599@www.exponents.org
SUMMARY:New Year's Day
DESCRIPTION:
URL:https://www.exponents.org/event/new-years-day-2/
LOCATION:NY
ATTACH;FMTTYPE=image/jpeg:https://www.exponents.org/wp-content/uploads/image-6.jpeg
END:VEVENT
BEGIN:VEVENT
DTSTART;TZID=UTC:20220101T120000
DTEND;TZID=UTC:20220101T133000
DTSTAMP:20260421T211956
CREATED:20220105T194244Z
LAST-MODIFIED:20220105T195729Z
UID:3796-1641038400-1641043800@www.exponents.org
SUMMARY:JLC Recovery & Wellness Center
DESCRIPTION:Our Recovery Wellness Center named in honor of our Founding Chair\, Judith Loeb Chiara. \nThe JLC Recovery & Wellness Center offers a range of services to those \nseeking a safe space while making new discoveries along their path to recovery. \nVirtual Groups are available via Zoom Monday -Saturday! \n  \n* For more information contact at least one of the following staff members: \nShayra Vega at 212-243-3434\, ext. 328 \nRobert Gerlich at 212-243-3434\, ext. 348 \nDanielle Williams at 212-243-3434\, ext. 355 \n  \nCheck out this month’s activities!
URL:https://www.exponents.org/event/jlc-recovery-wellness-center-13/2022-01-01/
LOCATION:NY
ORGANIZER;CN="Juan Jordan":MAILTO:jjordan@exponents.org
END:VEVENT
BEGIN:VEVENT
DTSTART;VALUE=DATE:20220117
DTEND;VALUE=DATE:20220118
DTSTAMP:20260421T211956
CREATED:20220105T195008Z
LAST-MODIFIED:20220105T195008Z
UID:3853-1642377600-1642463999@www.exponents.org
SUMMARY:Dr. Martin Luther King Jr. Day
DESCRIPTION:
URL:https://www.exponents.org/event/dr-martin-luther-king-jr-day-2/
LOCATION:NY
END:VEVENT
BEGIN:VEVENT
DTSTART;TZID=UTC:20220201T100000
DTEND;TZID=UTC:20220201T180000
DTSTAMP:20260421T211956
CREATED:20220203T021629Z
LAST-MODIFIED:20220203T022029Z
UID:3968-1643709600-1643738400@www.exponents.org
SUMMARY:JLC Recovery & Wellness Center
DESCRIPTION:Our Recovery Wellness Center named in honor of our Founding Chair\, Judith Loeb Chiara. \nThe JLC Recovery & Wellness Center offers a range of services to those \nseeking a safe space while making new discoveries along their path to recovery. \nVirtual Groups are available via Zoom Monday -Saturday! \n  \n* For more information contact at least one of the following staff members: \nShayra Vega at 212-243-3434\, ext. 328 \nRobert Gerlich at 212-243-3434\, ext. 348 \nDanielle Williams at 212-243-3434\, ext. 355 \n  \nCheck out this month’s activities!
URL:https://www.exponents.org/event/jlc-recovery-wellness-center-14/2022-02-01/
LOCATION:NY
ORGANIZER;CN="Juan Jordan":MAILTO:jjordan@exponents.org
END:VEVENT
BEGIN:VEVENT
DTSTART;TZID=UTC:20220207T130000
DTEND;TZID=UTC:20220207T150000
DTSTAMP:20260421T211956
CREATED:20220203T022353Z
LAST-MODIFIED:20220203T022410Z
UID:4037-1644238800-1644246000@www.exponents.org
SUMMARY:National Black HIV/AIDS Awareness Day 2022
DESCRIPTION:
URL:https://www.exponents.org/event/national-black-hiv-aids-awareness-day-2022/
LOCATION:NY
ORGANIZER;CN="Donald R. Powell%2C Mhs":MAILTO:dpowell@exponents.org
END:VEVENT
BEGIN:VEVENT
DTSTART;VALUE=DATE:20220221
DTEND;VALUE=DATE:20220222
DTSTAMP:20260421T211956
CREATED:20220203T022102Z
LAST-MODIFIED:20220203T022112Z
UID:4035-1645401600-1645487999@www.exponents.org
SUMMARY:Presidents' Day
DESCRIPTION:
URL:https://www.exponents.org/event/presidents-day-3/
LOCATION:NY
END:VEVENT
BEGIN:VEVENT
DTSTART;TZID=UTC:20220301T100000
DTEND;TZID=UTC:20220301T180000
DTSTAMP:20260421T211956
CREATED:20220228T210358Z
LAST-MODIFIED:20220228T210358Z
UID:4170-1646128800-1646157600@www.exponents.org
SUMMARY:JLC Recovery & Wellness Center
DESCRIPTION:Our Recovery Wellness Center named in honor of our Founding Chair\, Judith Loeb Chiara. \nThe JLC Recovery & Wellness Center offers a range of services to those \nseeking a safe space while making new discoveries along their path to recovery. \nVirtual Groups are available via Zoom Monday -Saturday! \n  \n* For more information contact at least one of the following staff members: \nShayra Vega at 212-243-3434\, ext. 328 \nRobert Gerlich at 212-243-3434\, ext. 348 \nDanielle Williams at 212-243-3434\, ext. 355 \n  \nCheck out this month’s activities!
URL:https://www.exponents.org/event/jlc-recovery-wellness-center-15/2022-03-01/
LOCATION:NY
ORGANIZER;CN="Juan Jordan":MAILTO:jjordan@exponents.org
END:VEVENT
BEGIN:VEVENT
DTSTART;TZID=UTC:20220309T130000
DTEND;TZID=UTC:20220309T150000
DTSTAMP:20260421T211956
CREATED:20220203T022853Z
LAST-MODIFIED:20220203T022908Z
UID:4043-1646830800-1646838000@www.exponents.org
SUMMARY:National Women & Girl's HIV/AIDS Awareness Day
DESCRIPTION:https://www.exponents.org/wp-content/uploads/NWGHAAD-flyer.mp4\n 
URL:https://www.exponents.org/event/national-women-girls-hiv-aids-awareness-day/
LOCATION:NY
ORGANIZER;CN="Donald R. Powell%2C Mhs":MAILTO:dpowell@exponents.org
END:VEVENT
BEGIN:VEVENT
DTSTART;TZID=UTC:20220401T100000
DTEND;TZID=UTC:20220401T180000
DTSTAMP:20260421T211956
CREATED:20220323T183546Z
LAST-MODIFIED:20220323T183817Z
UID:4259-1648807200-1648836000@www.exponents.org
SUMMARY:JLC Wellness & Recovery Center
DESCRIPTION:Our Recovery Wellness Center named in honor of our Founding Chair\, Judith Loeb Chiara. \nThe JLC Recovery & Wellness Center offers a range of services to those \nseeking a safe space while making new discoveries along their path to recovery. \nVirtual Groups are available via Zoom Monday -Saturday! \n  \n* For more information contact at least one of the following staff members: \nShayra Vega at 212-243-3434\, ext. 328 \nRobert Gerlich at 212-243-3434\, ext. 348 \nDanielle Williams at 212-243-3434\, ext. 355 \n  \nCheck out this month’s activities!
URL:https://www.exponents.org/event/jlc-wellness-recovery-center/2022-04-01/
LOCATION:NY
ORGANIZER;CN="Juan Jordan":MAILTO:jjordan@exponents.org
END:VEVENT
BEGIN:VEVENT
DTSTART;TZID=UTC:20220418T130000
DTEND;TZID=UTC:20220418T143000
DTSTAMP:20260421T211956
CREATED:20220414T211825Z
LAST-MODIFIED:20220414T212015Z
UID:4330-1650286800-1650292200@www.exponents.org
SUMMARY:National Transgender HIV Testing Day
DESCRIPTION:
URL:https://www.exponents.org/event/national-transgender-hiv-testing-day/
LOCATION:Exponents\, Inc.\, 17 Battery Place\, 8th Floor\, New York\, NY\, 10004\, United States
ORGANIZER;CN="Donald R. Powell%2C Mhs":MAILTO:dpowell@exponents.org
END:VEVENT
BEGIN:VEVENT
DTSTART;TZID=UTC:20220502T100000
DTEND;TZID=UTC:20220502T180000
DTSTAMP:20260421T211956
CREATED:20220505T223355Z
LAST-MODIFIED:20220505T223512Z
UID:4338-1651485600-1651514400@www.exponents.org
SUMMARY:JLC Wellness & Recovery Center
DESCRIPTION:Our Recovery Wellness Center named in honor of our Founding Chair\, Judith Loeb Chiara. \nThe JLC Recovery & Wellness Center offers a range of services to those \nseeking a safe space while making new discoveries along their path to recovery. \nVirtual Groups are available via Zoom Monday -Saturday! \n  \n* For more information contact at least one of the following staff members: \nShayra Vega at 212-243-3434\, ext. 328 \nRobert Gerlich at 212-243-3434\, ext. 348 \nDanielle Williams at 212-243-3434\, ext. 355 \n  \nCheck out this month’s activities!
URL:https://www.exponents.org/event/jlc-wellness-recovery-center-2/2022-05-02/
LOCATION:Exponents\, Inc.\, 17 Battery Place\, 8th Floor\, New York\, NY\, 10004\, United States
ORGANIZER;CN="Juan Jordan":MAILTO:jjordan@exponents.org
END:VEVENT
BEGIN:VEVENT
DTSTART;VALUE=DATE:20220530
DTEND;VALUE=DATE:20220531
DTSTAMP:20260421T211956
CREATED:20220505T223847Z
LAST-MODIFIED:20220505T223847Z
UID:4387-1653868800-1653955199@www.exponents.org
SUMMARY:Memorial Day
DESCRIPTION:
URL:https://www.exponents.org/event/memorial-day-2/
LOCATION:NY
END:VEVENT
BEGIN:VEVENT
DTSTART;TZID=UTC:20220601T100000
DTEND;TZID=UTC:20220601T180000
DTSTAMP:20260421T211956
CREATED:20220607T223328Z
LAST-MODIFIED:20220607T223328Z
UID:4483-1654077600-1654106400@www.exponents.org
SUMMARY:JLC Wellness & Recovery Center
DESCRIPTION:Our Recovery Wellness Center named in honor of our Founding Chair\, Judith Loeb Chiara. \nThe JLC Recovery & Wellness Center offers a range of services to those \nseeking a safe space while making new discoveries along their path to recovery. \nVirtual Groups are available via Zoom Monday -Saturday! \n  \n* For more information contact at least one of the following staff members: \nShayra Vega at 212-243-3434\, ext. 328 \nRobert Gerlich at 212-243-3434\, ext. 348 \nDanielle Williams at 212-243-3434\, ext. 355 \n  \nCheck out this month’s activities!
URL:https://www.exponents.org/event/jlc-wellness-recovery-center-3/2022-06-01/
LOCATION:Exponents\, Inc.\, 17 Battery Place\, 8th Floor\, New York\, NY\, 10004\, United States
ORGANIZER;CN="Juan Jordan":MAILTO:jjordan@exponents.org
END:VEVENT
BEGIN:VEVENT
DTSTART;VALUE=DATE:20220619
DTEND;VALUE=DATE:20220620
DTSTAMP:20260421T211956
CREATED:20220609T172803Z
LAST-MODIFIED:20220609T172803Z
UID:4511-1655596800-1655683199@www.exponents.org
SUMMARY:Juneteenth
DESCRIPTION:
URL:https://www.exponents.org/event/juneteenth-2/
LOCATION:NY
ATTACH;FMTTYPE=image/jpeg:https://www.exponents.org/wp-content/uploads/Juneteenth-.jpg
END:VEVENT
BEGIN:VEVENT
DTSTART;VALUE=DATE:20220620
DTEND;VALUE=DATE:20220621
DTSTAMP:20260421T211956
CREATED:20220609T173023Z
LAST-MODIFIED:20220609T173023Z
UID:4514-1655683200-1655769599@www.exponents.org
SUMMARY:Juneteenth (Observed)
DESCRIPTION:
URL:https://www.exponents.org/event/juneteenth-observed/
LOCATION:NY
ATTACH;FMTTYPE=image/jpeg:https://www.exponents.org/wp-content/uploads/Juneteenth-.jpg
END:VEVENT
END:VCALENDAR