BEGIN:VCALENDAR
VERSION:2.0
PRODID:-//Exponents - ECPv6.15.20//NONSGML v1.0//EN
CALSCALE:GREGORIAN
METHOD:PUBLISH
X-ORIGINAL-URL:https://www.exponents.org
X-WR-CALDESC:Events for Exponents
REFRESH-INTERVAL;VALUE=DURATION:PT1H
X-Robots-Tag:noindex
X-PUBLISHED-TTL:PT1H
BEGIN:VTIMEZONE
TZID:America/New_York
BEGIN:DAYLIGHT
TZOFFSETFROM:-0500
TZOFFSETTO:-0400
TZNAME:EDT
DTSTART:20240310T070000
END:DAYLIGHT
BEGIN:STANDARD
TZOFFSETFROM:-0400
TZOFFSETTO:-0500
TZNAME:EST
DTSTART:20241103T060000
END:STANDARD
BEGIN:DAYLIGHT
TZOFFSETFROM:-0500
TZOFFSETTO:-0400
TZNAME:EDT
DTSTART:20250309T070000
END:DAYLIGHT
BEGIN:STANDARD
TZOFFSETFROM:-0400
TZOFFSETTO:-0500
TZNAME:EST
DTSTART:20251102T060000
END:STANDARD
BEGIN:DAYLIGHT
TZOFFSETFROM:-0500
TZOFFSETTO:-0400
TZNAME:EDT
DTSTART:20260308T070000
END:DAYLIGHT
BEGIN:STANDARD
TZOFFSETFROM:-0400
TZOFFSETTO:-0500
TZNAME:EST
DTSTART:20261101T060000
END:STANDARD
END:VTIMEZONE
BEGIN:VEVENT
DTSTART;TZID=America/New_York:20250630T100000
DTEND;TZID=America/New_York:20250630T163000
DTSTAMP:20260422T075837
CREATED:20250529T194640Z
LAST-MODIFIED:20250529T194640Z
UID:7461-1751277600-1751301000@www.exponents.org
SUMMARY:JLC Recovery & Wellness Center
DESCRIPTION:Our Recovery Wellness Center named in honor of our Founding Chair\, Judith Loeb Chiara. \nThe JLC Recovery & Wellness Center offers a range of services to those \nseeking a safe space while making new discoveries along their path to recovery. \n  \n* For more information contact at least one of the following staff members: \nJuan Jordan at 212.243.3434 Ext. 330 \nShayra Vega: Ext. 328 \nDanielle Williams: Ext. 355 \nWilliam Cobb: Ext. 348 \n  \nCheck out this month’s activities!
URL:https://www.exponents.org/event/jlc-recovery-wellness-center-41/2025-06-30/
LOCATION:Exponents\, Inc.\, 17 Battery Place\, 8th Floor\, New York\, NY\, 10004\, United States
ORGANIZER;CN="Juan Jordan":MAILTO:jjordan@exponents.org
END:VEVENT
BEGIN:VEVENT
DTSTART;TZID=America/New_York:20250701T100000
DTEND;TZID=America/New_York:20250701T170000
DTSTAMP:20260422T075837
CREATED:20250718T163831Z
LAST-MODIFIED:20250718T163959Z
UID:7521-1751364000-1751389200@www.exponents.org
SUMMARY:JLC Recovery & Wellness Center
DESCRIPTION:Our Recovery Wellness Center named in honor of our Founding Chair\, Judith Loeb Chiara. \nThe JLC Recovery & Wellness Center offers a range of services to those \nseeking a safe space while making new discoveries along their path to recovery. \n  \n* For more information contact at least one of the following staff members: \nJuan Jordan at 212.243.3434 Ext. 330 \nShayra Vega: Ext. 328 \nDanielle Williams: Ext. 355 \nWilliam Cobb: Ext. 348 \n  \nCheck out this month’s activities!
URL:https://www.exponents.org/event/jlc-recovery-wellness-center-42/2025-07-01/
ORGANIZER;CN="Juan Jordan":MAILTO:jjordan@exponents.org
END:VEVENT
BEGIN:VEVENT
DTSTART;TZID=America/New_York:20250702T100000
DTEND;TZID=America/New_York:20250702T170000
DTSTAMP:20260422T075837
CREATED:20250718T163831Z
LAST-MODIFIED:20250718T164000Z
UID:7523-1751450400-1751475600@www.exponents.org
SUMMARY:JLC Recovery & Wellness Center
DESCRIPTION:Our Recovery Wellness Center named in honor of our Founding Chair\, Judith Loeb Chiara. \nThe JLC Recovery & Wellness Center offers a range of services to those \nseeking a safe space while making new discoveries along their path to recovery. \n  \n* For more information contact at least one of the following staff members: \nJuan Jordan at 212.243.3434 Ext. 330 \nShayra Vega: Ext. 328 \nDanielle Williams: Ext. 355 \nWilliam Cobb: Ext. 348 \n  \nCheck out this month’s activities!
URL:https://www.exponents.org/event/jlc-recovery-wellness-center-42/2025-07-02/
ORGANIZER;CN="Juan Jordan":MAILTO:jjordan@exponents.org
END:VEVENT
BEGIN:VEVENT
DTSTART;TZID=America/New_York:20250703T100000
DTEND;TZID=America/New_York:20250703T170000
DTSTAMP:20260422T075837
CREATED:20250718T163831Z
LAST-MODIFIED:20250718T164000Z
UID:7524-1751536800-1751562000@www.exponents.org
SUMMARY:JLC Recovery & Wellness Center
DESCRIPTION:Our Recovery Wellness Center named in honor of our Founding Chair\, Judith Loeb Chiara. \nThe JLC Recovery & Wellness Center offers a range of services to those \nseeking a safe space while making new discoveries along their path to recovery. \n  \n* For more information contact at least one of the following staff members: \nJuan Jordan at 212.243.3434 Ext. 330 \nShayra Vega: Ext. 328 \nDanielle Williams: Ext. 355 \nWilliam Cobb: Ext. 348 \n  \nCheck out this month’s activities!
URL:https://www.exponents.org/event/jlc-recovery-wellness-center-42/2025-07-03/
ORGANIZER;CN="Juan Jordan":MAILTO:jjordan@exponents.org
END:VEVENT
BEGIN:VEVENT
DTSTART;VALUE=DATE:20250704
DTEND;VALUE=DATE:20250705
DTSTAMP:20260422T075837
CREATED:20250718T164153Z
LAST-MODIFIED:20250718T164153Z
UID:7565-1751587200-1751673599@www.exponents.org
SUMMARY:Independence Day
DESCRIPTION:
URL:https://www.exponents.org/event/independence-day-5/
END:VEVENT
END:VCALENDAR